BEGIN:VCALENDAR
VERSION:2.0
PRODID:-//Living Legends Foundation - ECPv6.15.20//NONSGML v1.0//EN
CALSCALE:GREGORIAN
METHOD:PUBLISH
X-WR-CALNAME:Living Legends Foundation
X-ORIGINAL-URL:https://livinglegendsfoundation.com
X-WR-CALDESC:Events for Living Legends Foundation
REFRESH-INTERVAL;VALUE=DURATION:PT1H
X-Robots-Tag:noindex
X-PUBLISHED-TTL:PT1H
BEGIN:VTIMEZONE
TZID:America/Indiana/Indianapolis
BEGIN:DAYLIGHT
TZOFFSETFROM:-0500
TZOFFSETTO:-0400
TZNAME:EDT
DTSTART:20250309T070000
END:DAYLIGHT
BEGIN:STANDARD
TZOFFSETFROM:-0400
TZOFFSETTO:-0500
TZNAME:EST
DTSTART:20251102T060000
END:STANDARD
BEGIN:DAYLIGHT
TZOFFSETFROM:-0500
TZOFFSETTO:-0400
TZNAME:EDT
DTSTART:20260308T070000
END:DAYLIGHT
BEGIN:STANDARD
TZOFFSETFROM:-0400
TZOFFSETTO:-0500
TZNAME:EST
DTSTART:20261101T060000
END:STANDARD
BEGIN:DAYLIGHT
TZOFFSETFROM:-0500
TZOFFSETTO:-0400
TZNAME:EDT
DTSTART:20270314T070000
END:DAYLIGHT
BEGIN:STANDARD
TZOFFSETFROM:-0400
TZOFFSETTO:-0500
TZNAME:EST
DTSTART:20271107T060000
END:STANDARD
END:VTIMEZONE
BEGIN:VEVENT
DTSTART;TZID=America/Indiana/Indianapolis:20261002T193000
DTEND;TZID=America/Indiana/Indianapolis:20261002T220000
DTSTAMP:20260423T080037
CREATED:20250524T152532Z
LAST-MODIFIED:20260130T230206Z
UID:42180-1790969400-1790978400@livinglegendsfoundation.com
SUMMARY:2026 Living Legends Foundation Inc.Awards Show & Dinner
DESCRIPTION:
URL:https://livinglegendsfoundation.com/event/2025-living-legends-foundation-inc-awards-show-dinner/
LOCATION:Florish By Legendary\, 3143 Maple Drive\, Atlanta\, GA\, 30305\, United States
CATEGORIES:Events
ATTACH;FMTTYPE=image/webp:https://livinglegendsfoundation.com/wp-content/uploads/2025/05/GALA-LI-flyer-1200.webp
ORGANIZER;CN="Living Legends Foundation Inc":MAILTO:thelivinglegendsfoundationinc@gmail.com
END:VEVENT
END:VCALENDAR